Workbook
Name _Hlk214302312: Verplichtingen!$B$5
Name _Hlk214302325: Verplichtingen!$B$8

Sheet Totaaloverzicht
B1: Gemeente: | C1: =Brondata!$A$2 -> Capelle a/d IJssel | D1: =Brondata!$A$2 -> Capelle a/d IJssel | F1: PROGNOSE SUBSIDIEAANVRAAG | I1: 46388 | J1: t/m | K1: 46752
B2: Organisatie: | C2: NAAM AANVRAGER
I4: Legenda:
B5: Subsidie 2027 | D5: Subsidie HBO-eis | E5: Overige subsidies | F5: Totaal subsidies 2027 | I5: De oranje vlakken zijn in te vullen door de aanvrager
B6: {='Invoer subsidie'!S5:T6} -> 0 | C6: 0 | D6: {='Invoer subsidie HBO-eis'!H5:H6} -> 0 | E6: {='Overige subsidies'!E7:E8} -> 0 | F6: =B6+D6+E6 -> 0
B7: 0 | C7: 0 | D7: 0 | E7: 0
B9: Naam invuller
B10: Naam organisatie
B11: Correspondentieadres
B12: Postcode en woonplaats
B13: Telefoonnummer
B14: E-mailadres
B15: KvK-nummer
B16: IBAN
B17: Ten name van
B18: Datum
B19: Handtekening
B24: * LET OP: de berekeningen in dit formulier zijn gebaseerd op voorlopige tarieven.

Sheet Invoer subsidie
B1: Gemeente: | C1: =Brondata!$A$2 -> Capelle a/d IJssel | E1: PROGNOSE SUBSIDIEAANVRAAG | J1: 46388 | K1: t/m | L1: 46752
B2: Organisatie: | C2: =Totaaloverzicht!C2 -> NAAM AANVRAGER
P3: Totaal: | S3: =T33 -> 0
B4: Legenda: | P4: % voorlopige subsidie | T4: 1
B5: De oranje vlakken zijn in te vullen door de aanvrager | P5: Subsidieaanvraag: | S5: =S3*T4 -> 0
B8: Organisatie | C8: Locatie | D8: LRK nummer | E8: KOT regulier | G8: Niet-KOT regulier | J8: KOT geïndiceerd | L8: Niet-KOT geïndiceerd | P8: Aantal kinderen
E9: Aantal kinderen | F9: Subsidie | G9: Aantal kinderen | H9: Ouderbijdrage | I9: Subsidie | J9: Aantal kinderen | K9: Subsidie | L9: Aantal kinderen | M9: Ouderbijdrage | N9: Subsidie | P9: Regulier | Q9: VVE | R9: Totaal | S9: Ouderbijdrage | T9: Subsidie
F10: =IF(D10="","",E10*Calculaties!T4) | H10: =IF(D10="","",G10*Calculaties!S5) | I10: =IF(D10="","",G10*Calculaties!T5) | K10: =IF(D10="","",J10*Calculaties!T6) | M10: =IF(D10="","",L10*Calculaties!S8) | N10: =IF(D10="","",L10*Calculaties!T8) | P10: =IF(D10="","",E10+G10) | Q10: =IF(D10="","",J10+L10) | R10: =IF(D10="","",Q10+P10) | S10: =IF(D10="","",H10+M10) | T10: =IF(D10="","",F10+K10+I10+N10)
F11: =IF(D11="","",E11*Calculaties!T4) | H11: =IF(D11="","",G11*Calculaties!S5) | I11: =IF(D11="","",G11*Calculaties!T5) | K11: =IF(D11="","",J11*Calculaties!T6) | M11: =IF(D11="","",L11*Calculaties!S8) | N11: =IF(D11="","",L11*Calculaties!T8) | P11: =IF(D11="","",E11+G11) | Q11: =IF(D11="","",J11+L11) | R11: =IF(D11="","",Q11+P11) | S11: =IF(D11="","",H11+M11) | T11: =IF(D11="","",F11+K11+I11+N11)
F12: =IF(D12="","",E12*Calculaties!T4) | H12: =IF(D12="","",G12*Calculaties!S5) | I12: =IF(D12="","",G12*Calculaties!T5) | K12: =IF(D12="","",J12*Calculaties!T6) | M12: =IF(D12="","",L12*Calculaties!S8) | N12: =IF(D12="","",L12*Calculaties!T8) | P12: =IF(D12="","",E12+G12) | Q12: =IF(D12="","",J12+L12) | R12: =IF(D12="","",Q12+P12) | S12: =IF(D12="","",H12+M12) | T12: =IF(D12="","",F12+K12+I12+N12)
F13: =IF(D13="","",E13*Calculaties!T4) | H13: =IF(D13="","",G13*Calculaties!S5) | I13: =IF(D13="","",G13*Calculaties!T5) | K13: =IF(D13="","",J13*Calculaties!T6) | M13: =IF(D13="","",L13*Calculaties!S8) | N13: =IF(D13="","",L13*Calculaties!T8) | P13: =IF(D13="","",E13+G13) | Q13: =IF(D13="","",J13+L13) | R13: =IF(D13="","",Q13+P13) | S13: =IF(D13="","",H13+M13) | T13: =IF(D13="","",F13+K13+I13+N13)
F14: =IF(D14="","",E14*Calculaties!T4) | H14: =IF(D14="","",G14*Calculaties!S5) | I14: =IF(D14="","",G14*Calculaties!T5) | K14: =IF(D14="","",J14*Calculaties!T6) | M14: =IF(D14="","",L14*Calculaties!S8) | N14: =IF(D14="","",L14*Calculaties!T8) | P14: =IF(D14="","",E14+G14) | Q14: =IF(D14="","",J14+L14) | R14: =IF(D14="","",Q14+P14) | S14: =IF(D14="","",H14+M14) | T14: =IF(D14="","",F14+K14+I14+N14)
F15: =IF(D15="","",E15*Calculaties!T4) | H15: =IF(D15="","",G15*Calculaties!S5) | I15: =IF(D15="","",G15*Calculaties!T5) | K15: =IF(D15="","",J15*Calculaties!T6) | M15: =IF(D15="","",L15*Calculaties!S8) | N15: =IF(D15="","",L15*Calculaties!T8) | P15: =IF(D15="","",E15+G15) | Q15: =IF(D15="","",J15+L15) | R15: =IF(D15="","",Q15+P15) | S15: =IF(D15="","",H15+M15) | T15: =IF(D15="","",F15+K15+I15+N15)
F16: =IF(D16="","",E16*Calculaties!T4) | H16: =IF(D16="","",G16*Calculaties!S5) | I16: =IF(D16="","",G16*Calculaties!T5) | K16: =IF(D16="","",J16*Calculaties!T6) | M16: =IF(D16="","",L16*Calculaties!S8) | N16: =IF(D16="","",L16*Calculaties!T8) | P16: =IF(D16="","",E16+G16) | Q16: =IF(D16="","",J16+L16) | R16: =IF(D16="","",Q16+P16) | S16: =IF(D16="","",H16+M16) | T16: =IF(D16="","",F16+K16+I16+N16)
F17: =IF(D17="","",E17*Calculaties!T4) | H17: =IF(D17="","",G17*Calculaties!S5) | I17: =IF(D17="","",G17*Calculaties!T5) | K17: =IF(D17="","",J17*Calculaties!T6) | M17: =IF(D17="","",L17*Calculaties!S8) | N17: =IF(D17="","",L17*Calculaties!T8) | P17: =IF(D17="","",E17+G17) | Q17: =IF(D17="","",J17+L17) | R17: =IF(D17="","",Q17+P17) | S17: =IF(D17="","",H17+M17) | T17: =IF(D17="","",F17+K17+I17+N17)
F18: =IF(D18="","",E18*Calculaties!T4) | H18: =IF(D18="","",G18*Calculaties!S5) | I18: =IF(D18="","",G18*Calculaties!T5) | K18: =IF(D18="","",J18*Calculaties!T6) | M18: =IF(D18="","",L18*Calculaties!S8) | N18: =IF(D18="","",L18*Calculaties!T8) | P18: =IF(D18="","",E18+G18) | Q18: =IF(D18="","",J18+L18) | R18: =IF(D18="","",Q18+P18) | S18: =IF(D18="","",H18+M18) | T18: =IF(D18="","",F18+K18+I18+N18)
F19: =IF(D19="","",E19*Calculaties!T4) | H19: =IF(D19="","",G19*Calculaties!S5) | I19: =IF(D19="","",G19*Calculaties!T5) | K19: =IF(D19="","",J19*Calculaties!T6) | M19: =IF(D19="","",L19*Calculaties!S8) | N19: =IF(D19="","",L19*Calculaties!T8) | P19: =IF(D19="","",E19+G19) | Q19: =IF(D19="","",J19+L19) | R19: =IF(D19="","",Q19+P19) | S19: =IF(D19="","",H19+M19) | T19: =IF(D19="","",F19+K19+I19+N19)
F20: =IF(D20="","",E20*Calculaties!T4) | H20: =IF(D20="","",G20*Calculaties!S5) | I20: =IF(D20="","",G20*Calculaties!T5) | K20: =IF(D20="","",J20*Calculaties!T6) | M20: =IF(D20="","",L20*Calculaties!S8) | N20: =IF(D20="","",L20*Calculaties!T8) | P20: =IF(D20="","",E20+G20) | Q20: =IF(D20="","",J20+L20) | R20: =IF(D20="","",Q20+P20) | S20: =IF(D20="","",H20+M20) | T20: =IF(D20="","",F20+K20+I20+N20)
F21: =IF(D21="","",E21*Calculaties!T4) | H21: =IF(D21="","",G21*Calculaties!S5) | I21: =IF(D21="","",G21*Calculaties!T5) | K21: =IF(D21="","",J21*Calculaties!T6) | M21: =IF(D21="","",L21*Calculaties!S8) | N21: =IF(D21="","",L21*Calculaties!T8) | P21: =IF(D21="","",E21+G21) | Q21: =IF(D21="","",J21+L21) | R21: =IF(D21="","",Q21+P21) | S21: =IF(D21="","",H21+M21) | T21: =IF(D21="","",F21+K21+I21+N21)
F22: =IF(D22="","",E22*Calculaties!T4) | H22: =IF(D22="","",G22*Calculaties!S5) | I22: =IF(D22="","",G22*Calculaties!T5) | K22: =IF(D22="","",J22*Calculaties!T6) | M22: =IF(D22="","",L22*Calculaties!S8) | N22: =IF(D22="","",L22*Calculaties!T8) | P22: =IF(D22="","",E22+G22) | Q22: =IF(D22="","",J22+L22) | R22: =IF(D22="","",Q22+P22) | S22: =IF(D22="","",H22+M22) | T22: =IF(D22="","",F22+K22+I22+N22)
F23: =IF(D23="","",E23*Calculaties!T4) | H23: =IF(D23="","",G23*Calculaties!S5) | I23: =IF(D23="","",G23*Calculaties!T5) | K23: =IF(D23="","",J23*Calculaties!T6) | M23: =IF(D23="","",L23*Calculaties!S8) | N23: =IF(D23="","",L23*Calculaties!T8) | P23: =IF(D23="","",E23+G23) | Q23: =IF(D23="","",J23+L23) | R23: =IF(D23="","",Q23+P23) | S23: =IF(D23="","",H23+M23) | T23: =IF(D23="","",F23+K23+I23+N23)
F24: =IF(D24="","",E24*Calculaties!T4) | H24: =IF(D24="","",G24*Calculaties!S5) | I24: =IF(D24="","",G24*Calculaties!T5) | K24: =IF(D24="","",J24*Calculaties!T6) | M24: =IF(D24="","",L24*Calculaties!S8) | N24: =IF(D24="","",L24*Calculaties!T8) | P24: =IF(D24="","",E24+G24) | Q24: =IF(D24="","",J24+L24) | R24: =IF(D24="","",Q24+P24) | S24: =IF(D24="","",H24+M24) | T24: =IF(D24="","",F24+K24+I24+N24)
F25: =IF(D25="","",E25*Calculaties!T4) | H25: =IF(D25="","",G25*Calculaties!S5) | I25: =IF(D25="","",G25*Calculaties!T5) | K25: =IF(D25="","",J25*Calculaties!T6) | M25: =IF(D25="","",L25*Calculaties!S8) | N25: =IF(D25="","",L25*Calculaties!T8) | P25: =IF(D25="","",E25+G25) | Q25: =IF(D25="","",J25+L25) | R25: =IF(D25="","",Q25+P25) | S25: =IF(D25="","",H25+M25) | T25: =IF(D25="","",F25+K25+I25+N25)
F26: =IF(D26="","",E26*Calculaties!T4) | H26: =IF(D26="","",G26*Calculaties!S5) | I26: =IF(D26="","",G26*Calculaties!T5) | K26: =IF(D26="","",J26*Calculaties!T6) | M26: =IF(D26="","",L26*Calculaties!S8) | N26: =IF(D26="","",L26*Calculaties!T8) | P26: =IF(D26="","",E26+G26) | Q26: =IF(D26="","",J26+L26) | R26: =IF(D26="","",Q26+P26) | S26: =IF(D26="","",H26+M26) | T26: =IF(D26="","",F26+K26+I26+N26)
F27: =IF(D27="","",E27*Calculaties!T4) | H27: =IF(D27="","",G27*Calculaties!S5) | I27: =IF(D27="","",G27*Calculaties!T5) | K27: =IF(D27="","",J27*Calculaties!T6) | M27: =IF(D27="","",L27*Calculaties!S8) | N27: =IF(D27="","",L27*Calculaties!T8) | P27: =IF(D27="","",E27+G27) | Q27: =IF(D27="","",J27+L27) | R27: =IF(D27="","",Q27+P27) | S27: =IF(D27="","",H27+M27) | T27: =IF(D27="","",F27+K27+I27+N27)
F28: =IF(D28="","",E28*Calculaties!T4) | H28: =IF(D28="","",G28*Calculaties!S5) | I28: =IF(D28="","",G28*Calculaties!T5) | K28: =IF(D28="","",J28*Calculaties!T6) | M28: =IF(D28="","",L28*Calculaties!S8) | N28: =IF(D28="","",L28*Calculaties!T8) | P28: =IF(D28="","",E28+G28) | Q28: =IF(D28="","",J28+L28) | R28: =IF(D28="","",Q28+P28) | S28: =IF(D28="","",H28+M28) | T28: =IF(D28="","",F28+K28+I28+N28)
F29: =IF(D29="","",E29*Calculaties!T4) | H29: =IF(D29="","",G29*Calculaties!S5) | I29: =IF(D29="","",G29*Calculaties!T5) | K29: =IF(D29="","",J29*Calculaties!T6) | M29: =IF(D29="","",L29*Calculaties!S8) | N29: =IF(D29="","",L29*Calculaties!T8) | P29: =IF(D29="","",E29+G29) | Q29: =IF(D29="","",J29+L29) | R29: =IF(D29="","",Q29+P29) | S29: =IF(D29="","",H29+M29) | T29: =IF(D29="","",F29+K29+I29+N29)
F30: =IF(D30="","",E30*Calculaties!T4) | H30: =IF(D30="","",G30*Calculaties!S5) | I30: =IF(D30="","",G30*Calculaties!T5) | K30: =IF(D30="","",J30*Calculaties!T6) | M30: =IF(D30="","",L30*Calculaties!S8) | N30: =IF(D30="","",L30*Calculaties!T8) | P30: =IF(D30="","",E30+G30) | Q30: =IF(D30="","",J30+L30) | R30: =IF(D30="","",Q30+P30) | S30: =IF(D30="","",H30+M30) | T30: =IF(D30="","",F30+K30+I30+N30)
F31: =IF(D31="","",E31*Calculaties!T4) | H31: =IF(D31="","",G31*Calculaties!S5) | I31: =IF(D31="","",G31*Calculaties!T5) | K31: =IF(D31="","",J31*Calculaties!T6) | M31: =IF(D31="","",L31*Calculaties!S8) | N31: =IF(D31="","",L31*Calculaties!T8) | P31: =IF(D31="","",E31+G31) | Q31: =IF(D31="","",J31+L31) | R31: =IF(D31="","",Q31+P31) | S31: =IF(D31="","",H31+M31) | T31: =IF(D31="","",F31+K31+I31+N31)
F32: =IF(D32="","",E32*Calculaties!T4) | H32: =IF(D32="","",G32*Calculaties!S5) | I32: =IF(D32="","",G32*Calculaties!T5) | K32: =IF(D32="","",J32*Calculaties!T6) | M32: =IF(D32="","",L32*Calculaties!S8) | N32: =IF(D32="","",L32*Calculaties!T8) | P32: =IF(D32="","",E32+G32) | Q32: =IF(D32="","",J32+L32) | R32: =IF(D32="","",Q32+P32) | S32: =IF(D32="","",H32+M32) | T32: =IF(D32="","",F32+K32+I32+N32)
B33: Totalen : | E33: =SUM(E10:E32) -> 0 | F33: =SUM(F10:F32) -> 0 | G33: =SUM(G10:G32) -> 0 | H33: =SUM(H10:H32) -> 0 | I33: =SUM(I10:I32) -> 0 | J33: =SUM(J10:J32) -> 0 | K33: =SUM(K10:K32) -> 0 | L33: =SUM(L10:L32) -> 0 | ... N33: =SUM(N10:N32) -> 0 | P33: =SUM(P10:P32) -> 0 | Q33: =SUM(Q10:Q32) -> 0 | R33: =SUM(R10:R32) -> 0 | S33: =SUM(S10:S32) -> 0 | T33: =SUM(T10:T32) -> 0

Sheet Invoer subsidie HBO-eis
B1: Gemeente: | C1: =Brondata!$A$2 -> Capelle a/d IJssel | F1: PROGNOSE SUBSIDIEAANVRAAG 1-1-2027 t/m 31-12-2027
B2: Organisatie: | C2: =Totaaloverzicht!C2 -> NAAM AANVRAGER
F3: Totaal: | H3: =H37 -> 0
F4: % voorlopige subsidie | H4: 1
F5: Subsidieaanvraag: | H5: =H3*H4 -> 0
B9: Legenda:
B10: De oranje vlakken zijn in te vullen door de aanvrager
B13: Organisatie | C13: Locatie | D13: LRK nummer | E13: Aantal doelgroeppeuters | F13: Subsidie HBO-eis in de voorschoolse periode
E14: Het (geschatte) aantal doelgroeppeuters per locatie op 1 januari van het betreffende subsidiejaar | F14: Aantal uur per jaar per doelgroeppeuter | G14: Subsidie per uur | H14: Subsidie HBO-eis
B15: =IF('Invoer subsidie'!B10=0,"",'Invoer subsidie'!B10) | C15: =IF('Invoer subsidie'!C10=0,"",'Invoer subsidie'!C10) | D15: =IF('Invoer subsidie'!D10=0,"",'Invoer subsidie'!D10) | F15: =IF(E15="","",10) | G15: =IF(E15="","",Brondata!$M$2) | H15: =IF(E15="","",E15*F15*G15)
B16: =IF('Invoer subsidie'!B11=0,"",'Invoer subsidie'!B11) | C16: =IF('Invoer subsidie'!C11=0,"",'Invoer subsidie'!C11) | D16: =IF('Invoer subsidie'!D11=0,"",'Invoer subsidie'!D11) | F16: =IF(E16="","",10) | G16: =IF(E16="","",Brondata!$M$2) | H16: =IF(E16="","",E16*F16*G16)
B17: =IF('Invoer subsidie'!B12=0,"",'Invoer subsidie'!B12) | C17: =IF('Invoer subsidie'!C12=0,"",'Invoer subsidie'!C12) | D17: =IF('Invoer subsidie'!D12=0,"",'Invoer subsidie'!D12) | F17: =IF(E17="","",10) | G17: =IF(E17="","",Brondata!$M$2) | H17: =IF(E17="","",E17*F17*G17)
B18: =IF('Invoer subsidie'!B13=0,"",'Invoer subsidie'!B13) | C18: =IF('Invoer subsidie'!C13=0,"",'Invoer subsidie'!C13) | D18: =IF('Invoer subsidie'!D13=0,"",'Invoer subsidie'!D13) | F18: =IF(E18="","",10) | G18: =IF(E18="","",Brondata!$M$2) | H18: =IF(E18="","",E18*F18*G18)
B19: =IF('Invoer subsidie'!B14=0,"",'Invoer subsidie'!B14) | C19: =IF('Invoer subsidie'!C14=0,"",'Invoer subsidie'!C14) | D19: =IF('Invoer subsidie'!D14=0,"",'Invoer subsidie'!D14) | F19: =IF(E19="","",10) | G19: =IF(E19="","",Brondata!$M$2) | H19: =IF(E19="","",E19*F19*G19)
B20: =IF('Invoer subsidie'!B15=0,"",'Invoer subsidie'!B15) | C20: =IF('Invoer subsidie'!C15=0,"",'Invoer subsidie'!C15) | D20: =IF('Invoer subsidie'!D15=0,"",'Invoer subsidie'!D15) | F20: =IF(E20="","",10) | G20: =IF(E20="","",Brondata!$M$2) | H20: =IF(E20="","",E20*F20*G20)
B21: =IF('Invoer subsidie'!B16=0,"",'Invoer subsidie'!B16) | C21: =IF('Invoer subsidie'!C16=0,"",'Invoer subsidie'!C16) | D21: =IF('Invoer subsidie'!D16=0,"",'Invoer subsidie'!D16) | F21: =IF(E21="","",10) | G21: =IF(E21="","",Brondata!$M$2) | H21: =IF(E21="","",E21*F21*G21)
B22: =IF('Invoer subsidie'!B17=0,"",'Invoer subsidie'!B17) | C22: =IF('Invoer subsidie'!C17=0,"",'Invoer subsidie'!C17) | D22: =IF('Invoer subsidie'!D17=0,"",'Invoer subsidie'!D17) | F22: =IF(E22="","",10) | G22: =IF(E22="","",Brondata!$M$2) | H22: =IF(E22="","",E22*F22*G22)
B23: =IF('Invoer subsidie'!B18=0,"",'Invoer subsidie'!B18) | C23: =IF('Invoer subsidie'!C18=0,"",'Invoer subsidie'!C18) | D23: =IF('Invoer subsidie'!D18=0,"",'Invoer subsidie'!D18) | F23: =IF(E23="","",10) | G23: =IF(E23="","",Brondata!$M$2) | H23: =IF(E23="","",E23*F23*G23)
B24: =IF('Invoer subsidie'!B19=0,"",'Invoer subsidie'!B19) | C24: =IF('Invoer subsidie'!C19=0,"",'Invoer subsidie'!C19) | D24: =IF('Invoer subsidie'!D19=0,"",'Invoer subsidie'!D19) | F24: =IF(E24="","",10) | G24: =IF(E24="","",Brondata!$M$2) | H24: =IF(E24="","",E24*F24*G24)
B25: =IF('Invoer subsidie'!B20=0,"",'Invoer subsidie'!B20) | C25: =IF('Invoer subsidie'!C20=0,"",'Invoer subsidie'!C20) | D25: =IF('Invoer subsidie'!D20=0,"",'Invoer subsidie'!D20) | F25: =IF(E25="","",10) | G25: =IF(E25="","",Brondata!$M$2) | H25: =IF(E25="","",E25*F25*G25)
B26: =IF('Invoer subsidie'!B21=0,"",'Invoer subsidie'!B21) | C26: =IF('Invoer subsidie'!C21=0,"",'Invoer subsidie'!C21) | D26: =IF('Invoer subsidie'!D21=0,"",'Invoer subsidie'!D21) | F26: =IF(E26="","",10) | G26: =IF(E26="","",Brondata!$M$2) | H26: =IF(E26="","",E26*F26*G26)
... B36: =IF('Invoer subsidie'!B31=0,"",'Invoer subsidie'!B31) | C36: =IF('Invoer subsidie'!C31=0,"",'Invoer subsidie'!C31) | D36: =IF('Invoer subsidie'!D31=0,"",'Invoer subsidie'!D31) | F36: =IF(E36="","",10) | G36: =IF(E36="","",Brondata!$M$2) | H36: =IF(E36="","",E36*F36*G36)
E37: =SUM(E15:E36) -> 0 | H37: =SUM(H15:H36) -> 0

Sheet Calculaties
B1: Gemeente: | C1: =Brondata!$A$2 -> Capelle a/d IJssel
B2: Periode 1-1-2027 t/m 31-12-2027
B3: Kinderopvang-toeslag | C3: Indicatie | D3: Type uren | E3: Normtarief | F3: Opslag per uur | G3: Gemiddelde ouderbijdrage | H3: Subsidie per uur | J3: Uren per week | K3: Aantal weken | L3: Aantal uren | M3: Ouderbijdrage | N3: Subsidie per kind per type uur | P3: Type kind | R3: Aantal uren | S3: Ouderbijdrage | T3: Subsidie per kind voor periode
B4: KOT | C4: Regulier | D4: Regulier | E4: 11.23 | F4: =IF(Brondata!E2="Nee",0,Brondata!$F$2) -> 2.1 | H4: =F4 -> 2.1 | J4: 8 | K4: 40 | L4: =K4*J4 -> 320 | N4: =L4*H4 -> 672 | P4: KOT Regulier | R4: =L4 -> 320 | T4: =N4 -> 672
B5: Niet-KOT | C5: Regulier | D5: Regulier | E5: 11.23 | F5: =Brondata!$F$2 -> 2.1 | G5: 0.45 | H5: =E5-G5+F5 -> 12.88 | J5: 8 | K5: 40 | L5: =K5*J5 -> 320 | M5: =L5*G5 -> 144 | N5: =L5*H5 -> 4121.6 | P5: Niet-KOT Regulier | R5: =L5 -> 320 | S5: =M5 -> 144 | T5: =N5 -> 4121.6
B6: KOT | C6: Geïndiceerd | D6: Regulier | E6: 11.23 | F6: =Brondata!$G$2 -> 2.1 | H6: =F6 -> 2.1 | J6: 8 | K6: 40 | L6: =K6*J6 -> 320 | N6: =L6*H6 -> 672 | P6: KOT Geïndiceerd | R6: =L6+L7 -> 640 | T6: =N6+N7 -> 4937.6
D7: VVE | E7: 11.23 | F7: =Brondata!$G$2 -> 2.1 | H7: =E7+F7 -> 13.33 | J7: 8 | K7: 40 | L7: =K7*J7 -> 320 | N7: =L7*H7 -> 4265.6 | R7: =L7 -> 320
B8: Niet-KOT | C8: Geïndiceerd | D8: Regulier | E8: 11.23 | F8: =Brondata!$G$2 -> 2.1 | G8: 0.45 | H8: =E8-G8+F8 -> 12.88 | J8: 8 | K8: 40 | L8: =K8*J8 -> 320 | M8: =L8*G8 -> 144 | N8: =L8*H8 -> 4121.6 | P8: Niet-KOT Geïndiceerd | R8: =L8+L9 -> 640 | S8: =M8+M9 -> 144 | T8: =N8+N9 -> 8387.2
D9: VVE | E9: 11.23 | F9: =Brondata!$G$2 -> 2.1 | H9: =E9+F9 -> 13.33 | J9: 8 | K9: 40 | L9: =K9*J9 -> 320 | N9: =L9*H9 -> 4265.6 | R9: =L9 -> 320 | S9: =SUMIF(D:D,P9,H:H)+SUMIF(D:D,P9,#REF!) -> #REF!
B11: Legenda:
B12: De oranje vlakken zijn in te vullen door de aanvrager

Sheet Overige subsidies
B1: Overige subsidies | D1: Periode 1-1-2027 t/m 31-12-2027
B3: Legenda:
B4: De oranje vlakken zijn in te vullen door de aanvrager
B7: Subsidie zware doelgroeplocaties | C7: Het totaal aantal uren per week inzet van een extra pedagogisch professional op zware doelgroep locaties (uitgaande van 40 weken). | D7: 0 | E7: =D7*40*D8 -> 0
C8: Subsidie per uur (CAO Kinderopvang) | D8: 43.72

Sheet Brondata
A1: Gemeente Naam | B1: % voorlopige subsidie | C1: % voorlopige subsidie HBO | D1: Tarief HBO inzet | E1: Opslag per uur voor Regulier KOT | F1: Opslag per uur Regulier | G1: Opslag per uur geindiceerd | H1: Gemiddelde ouderbijdrage | I1: Uren per week Regulier (is er een verdeling 8/8 of 11/5,5) | J1: Uren per week VVE (is er een verdeling 8/8 of 11/5,5) | K1: Inkomenstabel VNG/KOT/eigen inkomenstabel | L1: Is er een eigen bijdrage voor specifieke inkomensgroep? (denk aan een minima regeling) Ja/Nee | M1: Tarief HBO inzet (CAO €56,12 voor 2026) 2
A2: Capelle a/d IJssel | B2: 0.9 | C2: 0.9 | D2: 1 | E2: Ja | F2: 2.1 | G2: 2.1 | H2: 0.45 | I2: 8 | J2: 8 | M2: 58.09

Sheet Verplichtingen
B1: Verplichtingen | D1: Periode 1-1-2027 t/m 31-12-2027
B2: Nr. | C2: Verplichting/vereiste | D2: Voldoet u hieraan? (aanvinken) | E2: Toelichting (optioneel)
B3: 1. | C3: Voldoet aan de eisen van de Wet kinderopvang en het Besluit basisvoorwaarden kwaliteit voorschoolse educatie | D3: FALSE
B4: 2. | C4: Voldoet aan de kwaliteitseisen van de Inspectie van het Onderwijs en GGD | D4: FALSE
B5: 3. | C5: Voldoet aan de eisen van het Kwaliteitskader VE | D5: FALSE
B6: 4. | C6: In staat vanaf de ingangsdatum van de subsidieverlening de in de subsidiebeschikking bepaalde activiteit(en) uit te voeren | D6: FALSE
B7: 5. | C7: Int de ouderbijdrage | D7: FALSE
B8: 6. | C8: Stelt tijd beschikbaar om in samenspraak met gemeente en lokale onderwijsinstellingen tot goede afspraken te komen over een doorgaande lijn | D8: FALSE
B9: 7. | C9: Verleent VE-peuters voorrang bij de plaatsing van een peuter op een beschikbaar gekomen plek wanneer er een wachtlijst is | D9: FALSE
